BEGIN:VCALENDAR
VERSION:2.0
PRODID:-//Archon Aesthetics - ECPv6.15.2//NONSGML v1.0//EN
CALSCALE:GREGORIAN
METHOD:PUBLISH
X-WR-CALNAME:Archon Aesthetics
X-ORIGINAL-URL:https://archonaesthetics.com
X-WR-CALDESC:Events for Archon Aesthetics
REFRESH-INTERVAL;VALUE=DURATION:PT1H
X-Robots-Tag:noindex
X-PUBLISHED-TTL:PT1H
BEGIN:VTIMEZONE
TZID:UTC
BEGIN:STANDARD
TZOFFSETFROM:+0000
TZOFFSETTO:+0000
TZNAME:UTC
DTSTART:20250101T000000
END:STANDARD
END:VTIMEZONE
BEGIN:VTIMEZONE
TZID:America/Phoenix
BEGIN:STANDARD
TZOFFSETFROM:-0700
TZOFFSETTO:-0700
TZNAME:MST
DTSTART:20250101T000000
END:STANDARD
END:VTIMEZONE
BEGIN:VEVENT
DTSTART;TZID=UTC:20250113T180000
DTEND;TZID=UTC:20250113T190000
DTSTAMP:20260423T101016
CREATED:20250108T001431Z
LAST-MODIFIED:20250108T001431Z
UID:6752-1736791200-1736794800@archonaesthetics.com
SUMMARY:Dr. Matthew Nykiel: Elevating Surgical Outcomes with CO2Lift®
DESCRIPTION:Dr. Matthew Nykiel: Elevating Surgical Outcomes with CO2Lift® \nRegister here: https://us02web.zoom.us/webinar/register/9717362708244/WN_tNRCTEOVTqaJewhCkAH1OQ#/registration
URL:https://archonaesthetics.com/event/dr-matthew-nykiel-elevating-surgical-outcomes-with-co2lift/
ATTACH;FMTTYPE=image/jpeg:https://archonaesthetics.com/wp-content/uploads/2025/01/IMG_0966.jpg
END:VEVENT
BEGIN:VEVENT
DTSTART;TZID=UTC:20250123T143000
DTEND;TZID=UTC:20250123T153000
DTSTAMP:20260423T101016
CREATED:20241216T184705Z
LAST-MODIFIED:20250108T231512Z
UID:6701-1737642600-1737646200@archonaesthetics.com
SUMMARY:TargetCool + Resilielle Exosomes Webinar
DESCRIPTION:WHAT YOU’LL LEARN: \n\nThe science behind Resilielle Exosomes\nHow TargetCool can be combined with Resiliélle Exosomes to enhance patient outcomes and experiences\nDemonstrate Resiliélle Exosomes & TargetCool in action\nQ&A session and learn about our special promo\n\nJoin us for an exciting webinar on Resiliélle Exosomes and Ice Needling! Discover the latest\, most comfortable\, and effective method to deliver exosomes for optimal\npatient results. \nRegister here: \nhttps://register.gotowebinar.com/register/4315754006592338528?utm_source=hs_email&utm_medium=email&_hsenc=p2ANqtz–8XFDF4j5alt8OXhQvQJbGHOqTJ96ovzDK0rQvm_trQztPdrZQXdxWE7jZYWOOgbp9VK2e
URL:https://archonaesthetics.com/event/targetcool-resilielle-exosomes-webinar/
ATTACH;FMTTYPE=image/jpeg:https://archonaesthetics.com/wp-content/uploads/2024/12/Resilielle_Email_template_Chris_Update.jpg
END:VEVENT
BEGIN:VEVENT
DTSTART;TZID=America/Phoenix:20250129T170000
DTEND;TZID=America/Phoenix:20250129T180000
DTSTAMP:20260423T101016
CREATED:20250117T233605Z
LAST-MODIFIED:20250117T233717Z
UID:6772-1738170000-1738173600@archonaesthetics.com
SUMMARY:Mastering Laser Hair Removal: Profit & Patient Outcomes
DESCRIPTION:Discover how to implement laser hair removal into your practice / spa successfully! \n\n\nSpeaker: Roni Bolton APRN\, DCNP \n  \nWhat you’ll learn: \n\n\n\n\nProven strategies to boost revenue \n\n\n\n\nSecrets to patient retention and satisfaction \n\n\n\n\nChoosing the right technology and training. \n\n\n\n\nBusiness Operations \n\n\n\n  \nRegister here: https://event.webinarjam.com/register/2/xpw5xal
URL:https://archonaesthetics.com/event/mastering-laser-hair-removal-profit-patient-outcomes/
ATTACH;FMTTYPE=image/jpeg:https://archonaesthetics.com/wp-content/uploads/2025/01/IMG_1014.jpg
END:VEVENT
END:VCALENDAR