BEGIN:VCALENDAR
VERSION:2.0
PRODID:-//Archon Aesthetics - ECPv6.15.2//NONSGML v1.0//EN
CALSCALE:GREGORIAN
METHOD:PUBLISH
X-ORIGINAL-URL:https://archonaesthetics.com
X-WR-CALDESC:Events for Archon Aesthetics
REFRESH-INTERVAL;VALUE=DURATION:PT1H
X-Robots-Tag:noindex
X-PUBLISHED-TTL:PT1H
BEGIN:VTIMEZONE
TZID:UTC
BEGIN:STANDARD
TZOFFSETFROM:+0000
TZOFFSETTO:+0000
TZNAME:UTC
DTSTART:20240101T000000
END:STANDARD
END:VTIMEZONE
BEGIN:VEVENT
DTSTART;TZID=UTC:20240912T173000
DTEND;TZID=UTC:20240912T193000
DTSTAMP:20260422T094353
CREATED:20240826T234223Z
LAST-MODIFIED:20240826T234223Z
UID:6625-1726162200-1726169400@archonaesthetics.com
SUMMARY:Silkro + EON Happy Hour Event
DESCRIPTION:Come join us for some drinks and lite finger food after work Thursday September 12th at Med-Surg Academy in Scottsdale. \nWe will be showcasing the brand new Silkro RF\, the World’s First & Only RF Microneedling platform combined with plasma and women’s health as well as EON robotic laser fat reduction.  \nWe will have one model for the Silkro and just a few spots for an EON demo treatment so be sure to be one of the first to RSVP to secure your spot! \nRegister Here: https://www.eventbrite.com/e/skin-glow-with-silkro-happy-hour-event-tickets-1001583231407?aff=oddtdtcreator
URL:https://archonaesthetics.com/event/silkro-eon-happy-hour-event/
LOCATION:Med-Surg Aesthetics and Laser Academy\, 8575 E Princess Dr Suite A221\, Scottsdale\, 85255\, United States
ATTACH;FMTTYPE=image/png:https://archonaesthetics.com/wp-content/uploads/2024/08/Pastel-Watercolour-Aesthetic-Happy-Hour-Virtual-Invitation.png
END:VEVENT
BEGIN:VEVENT
DTSTART;TZID=UTC:20240918T160000
DTEND;TZID=UTC:20240918T170000
DTSTAMP:20260422T094353
CREATED:20240829T161353Z
LAST-MODIFIED:20240829T161518Z
UID:6633-1726675200-1726678800@archonaesthetics.com
SUMMARY:Innovative Laser Techniques for Enhanced Patient Outcomes with Dr. Tess Mauricio
DESCRIPTION:Mark your calendar for September 18th at 4 PM PST / 7 PM EST for an enlightening session with renowned dermatologist Dr. Tess Mauricio\, who will be discussing the transformative potential of combination treatments using the VYDENCE laser platform. \nDuring this webinar\, Dr. Mauricio will share her extensive experience and strategies for maximizing patient outcomes\, including clinical best practices and techniques with VYDENCE lasers. There will also be an interactive Q&A session\, allowing you to get your questions answered in real-time and gain practical insights tailored to your practice needs. \nDon’t miss this opportunity to enhance your expertise and expand your treatment offerings. Secure your spot today and take the first step towards revolutionizing your aesthetic practice! \nRegister here: \nhttps://zoom.us/webinar/register/WN_mB0fhrN9TayhP2YIEx7V-g?amp_device_id=a47585d4-5a56-47b5-b7db-df85f391c38f&utm_campaign=newsletter_usa__ntl-__agosto_-_04&utm_medium=email&utm_source=RD+Station#/registration
URL:https://archonaesthetics.com/event/innovative-laser-techniques-for-enhanced-patient-outcomes-with-dr-tess-mauricio/
ATTACH;FMTTYPE=image/png:https://archonaesthetics.com/wp-content/uploads/2024/08/webinar-tess.png
END:VEVENT
BEGIN:VEVENT
DTSTART;TZID=UTC:20240930T170000
DTEND;TZID=UTC:20240930T180000
DTSTAMP:20260422T094353
CREATED:20240925T164727Z
LAST-MODIFIED:20240926T164542Z
UID:6654-1727715600-1727719200@archonaesthetics.com
SUMMARY:Reducing Post Surgical Complications Webinar with Dr. Buford\, MD & Dr. Salcedo\, MD
DESCRIPTION:Find out how adding CO2Lift® Pro Carboxy Gel to your postoperative care can reduce post surgical complications and lead to reduced recovery time for your patients. Learn how Carboxy gel increases the microcirculation leading to faster tissue regeneration and the different ways you can use it in your practice. \n  \nDr. Gregory Buford\, MD\, FACS\, PCEO \nBased in Denver\, Colorado Dr. Buford is a board-certified surgeon specializing in non-invasive and cosmetic plastic surgery procedures.  He is a top authority and advisory in both surgical and injectable procedures. Learn how Dr. Buford uses CO2Lift® Pro Carboxy Gel to improve his patient’s surgical outcomes. \n\n\n\nDr. Samuel Salcedo\, MD \nThe Plastics Doc \nSamuel E. Salcedo\, M.D. is a distinguished board-certified plastic and reconstructive surgeon based in Corona\, CA. Learn how he uses CO2Lift® Pro Carboxy Gel to reduce post surgical risks and stimulate collagen to for a faster recovery in liposuction and related procedures.\n\n\n\nRegister here: \nhttps://us02web.zoom.us/webinar/register/1517268404371/WN_Sk_HOTnTRQST5KjOQjARyQ#/registration
URL:https://archonaesthetics.com/event/6654/
ATTACH;FMTTYPE=image/jpeg:https://archonaesthetics.com/wp-content/uploads/2024/09/Unknown.jpeg
END:VEVENT
END:VCALENDAR