BEGIN:VCALENDAR
VERSION:2.0
PRODID:-//Archon Aesthetics - ECPv6.15.2//NONSGML v1.0//EN
CALSCALE:GREGORIAN
METHOD:PUBLISH
X-ORIGINAL-URL:https://archonaesthetics.com
X-WR-CALDESC:Events for Archon Aesthetics
REFRESH-INTERVAL;VALUE=DURATION:PT1H
X-Robots-Tag:noindex
X-PUBLISHED-TTL:PT1H
BEGIN:VTIMEZONE
TZID:UTC
BEGIN:STANDARD
TZOFFSETFROM:+0000
TZOFFSETTO:+0000
TZNAME:UTC
DTSTART:20240101T000000
END:STANDARD
END:VTIMEZONE
BEGIN:VEVENT
DTSTART;TZID=UTC:20240224T100000
DTEND;TZID=UTC:20240224T130000
DTSTAMP:20260424T234820
CREATED:20240222T134801Z
LAST-MODIFIED:20240222T134801Z
UID:5914-1708768800-1708779600@archonaesthetics.com
SUMMARY:BENEV Aesthetic Triple XXX Threat Virtual Summit Feb 24\, 2024
DESCRIPTION:BENEV Aesthetic Triple XXX Threat Virtual Summit Feb 24\, 2024\n\nJoin BENEV\, The Aesthetic Immersion and key industry leaders as they turn up the heat for the sexiest live interactive exchange of personal perspectives and conversations featuring disruptive aesthetic technologies that are taking over practices and delivering results. \nDate: Saturday\, February 24\, 2024 \nTime: 9:00 AM – 12:00 PM (PST) \nEvent Details: \n\n9:00 AM – 9:27 AM Sylfirm X presentation with Dr. Suneel Chilukuri\n9:27 AM – 10:07 AM Exosome with Dr. Gideon Kwok & Dr. Suneel Chilukuri\n10:07 AM – 10:31 AM Miracu with Dr. Gideon Kwok and Lori Robertson\, MSN\, FNP-C\n10:31 AM – 10:45 AM Miracu Nose Threads with Dr. TJ Tsay\n10:45 AM -11:45 AM Trifecta Demo with Dr. Gideon Kwok and Lori Robertson\, MSN\, FNP-C\n11:45 AM – 12:00 PM Ending Q&A\n\nFeel free to reach out to our team at learn@theaestheticimmersion.com if you need any assistance. \nREGISTER HERE: https://learn.theaestheticimmersion.com/offers/X8Ssjzt9/checkout
URL:https://archonaesthetics.com/event/benev-aesthetic-triple-xxx-threat-virtual-summit-feb-24-2024/
ATTACH;FMTTYPE=image/jpeg:https://archonaesthetics.com/wp-content/uploads/2024/02/ee5f1d-4234-fa7-c666-04bdc4f6b5_Benev-W1080-Small.jpg
END:VEVENT
END:VCALENDAR