BEGIN:VCALENDAR
VERSION:2.0
PRODID:-//Archon Aesthetics - ECPv6.15.2//NONSGML v1.0//EN
CALSCALE:GREGORIAN
METHOD:PUBLISH
X-ORIGINAL-URL:https://archonaesthetics.com
X-WR-CALDESC:Events for Archon Aesthetics
REFRESH-INTERVAL;VALUE=DURATION:PT1H
X-Robots-Tag:noindex
X-PUBLISHED-TTL:PT1H
BEGIN:VTIMEZONE
TZID:UTC
BEGIN:STANDARD
TZOFFSETFROM:+0000
TZOFFSETTO:+0000
TZNAME:UTC
DTSTART:20240101T000000
END:STANDARD
END:VTIMEZONE
BEGIN:VEVENT
DTSTART;TZID=UTC:20240123T170000
DTEND;TZID=UTC:20240123T180000
DTSTAMP:20260425T011013
CREATED:20240118T050536Z
LAST-MODIFIED:20240118T050536Z
UID:5863-1706029200-1706032800@archonaesthetics.com
SUMMARY:The Business of CO2Lift® Carboxy Gel
DESCRIPTION:Date & Time\nJan 23\, 2024 05:00 PM MST\n\n\n\nWhat can CO2Lift® Pro do for your business? Join expert business owners as they unveil their secrets to success: RYAN BOURGEOIS\, FNP-C : Bougie Aesthetics SHARLENA HASSANI : Artisan of Skin Learn how to create a full-proof plan to help launch and grow CO2Lift® Pro in your medical or aesthetics spa. From pricing and promotion to upselling and enhancing\, you will not want to miss this conversation!\n\nRegister here: \nhttps://us02web.zoom.us/webinar/register/6917055180293/WN_biMlrdwGRSWYcsrqtuWe5w#/registration
URL:https://archonaesthetics.com/event/the-business-of-co2lift-carboxy-gel/
ATTACH;FMTTYPE=image/png:https://archonaesthetics.com/wp-content/uploads/2024/01/Screenshot-2024-01-17-at-10.04.17 PM.png
END:VEVENT
BEGIN:VEVENT
DTSTART;TZID=UTC:20240125T170000
DTEND;TZID=UTC:20240125T180000
DTSTAMP:20260425T011013
CREATED:20240118T050829Z
LAST-MODIFIED:20240118T050829Z
UID:5866-1706202000-1706205600@archonaesthetics.com
SUMMARY:Tailored Sexual Wellness Solutions for All with Dr. David Cunningham
DESCRIPTION:Jan 25\, 2024 05:00 PM MST\n\n\n\nSexual wellness is one of the fastest growing segments in aesthetics\, and there are multiple modalities that can be used to achieve great results for your patients. Join Dr. David Cunningham\, Founder of Infinity Health & Body\, and National Clinic Advisor\, GAINSWave and FemiWave\, as he discusses his multi-pronged approach to addressing sexual dysfunction and optimizing performance for an active lifestyle.\n\n\nRegister here:\nhttps://us02web.zoom.us/webinar/register/4716993762394/WN_Ryi4HUdAT7u0yAIPAO3QuA#/registration
URL:https://archonaesthetics.com/event/tailored-sexual-wellness-solutions-for-all-with-dr-david-cunningham/
ATTACH;FMTTYPE=image/png:https://archonaesthetics.com/wp-content/uploads/2024/01/Screenshot-2024-01-17-at-10.05.49 PM.png
END:VEVENT
BEGIN:VEVENT
DTSTART;TZID=UTC:20240130T173000
DTEND;TZID=UTC:20240130T183000
DTSTAMP:20260425T011013
CREATED:20240118T045753Z
LAST-MODIFIED:20240118T045933Z
UID:5858-1706635800-1706639400@archonaesthetics.com
SUMMARY:Body Contouring in 2024 with Dr. Johnny Franco MD
DESCRIPTION:Exciting Announcement! \n\n\n\nDon’t miss this exclusive webinar on the futuristic EON+ robotic body contouring device!  Get ready to discover the cutting-edge technology and revolutionary results that await you. Join us LIVE to uncover the secrets behind touchless laser body sculpting and how it’s transforming the beauty industry. \n\n\n\n Tuesday\, January 30th\n Time: 4:30 pm PST\n\n\nDon’t let this opportunity pass you by—be part of the future of body contouring!\n\n Register today to secure your spot now:\n\n\nhttps://us02web.zoom.us/webinar/register/WN_pcfGoG_7QAmbjvtWgY1-gw?fbclid=PAAaaQGPFta_zChE1FPEWg4yLZA9l5AyXDLHTwxeGaIr9fH7ewDaQu9P1WjCI_aem_AUksg_OAM0vTbclfTiKzTSxAUPOmoSG1y63U9E66dd0opzzaK_XGEDZUE1Tt2NxCwIg#/registration
URL:https://archonaesthetics.com/event/body-contouring-in-2024-with-dr-johnny-franco-md/
ATTACH;FMTTYPE=image/jpeg:https://archonaesthetics.com/wp-content/uploads/2024/01/IMG_4430.jpg
END:VEVENT
END:VCALENDAR