BEGIN:VCALENDAR
VERSION:2.0
PRODID:-//Archon Aesthetics - ECPv6.15.2//NONSGML v1.0//EN
CALSCALE:GREGORIAN
METHOD:PUBLISH
X-WR-CALNAME:Archon Aesthetics
X-ORIGINAL-URL:https://archonaesthetics.com
X-WR-CALDESC:Events for Archon Aesthetics
REFRESH-INTERVAL;VALUE=DURATION:PT1H
X-Robots-Tag:noindex
X-PUBLISHED-TTL:PT1H
BEGIN:VTIMEZONE
TZID:America/Los_Angeles
BEGIN:DAYLIGHT
TZOFFSETFROM:-0800
TZOFFSETTO:-0700
TZNAME:PDT
DTSTART:20230312T100000
END:DAYLIGHT
BEGIN:STANDARD
TZOFFSETFROM:-0700
TZOFFSETTO:-0800
TZNAME:PST
DTSTART:20231105T090000
END:STANDARD
END:VTIMEZONE
BEGIN:VTIMEZONE
TZID:America/Phoenix
BEGIN:STANDARD
TZOFFSETFROM:-0700
TZOFFSETTO:-0700
TZNAME:MST
DTSTART:20230101T000000
END:STANDARD
END:VTIMEZONE
BEGIN:VTIMEZONE
TZID:UTC
BEGIN:STANDARD
TZOFFSETFROM:+0000
TZOFFSETTO:+0000
TZNAME:UTC
DTSTART:20230101T000000
END:STANDARD
END:VTIMEZONE
BEGIN:VEVENT
DTSTART;TZID=America/Los_Angeles:20231110T180000
DTEND;TZID=America/Los_Angeles:20231112T150000
DTSTAMP:20260425T115853
CREATED:20231011T203000Z
LAST-MODIFIED:20231012T155351Z
UID:5714-1699639200-1699801200@archonaesthetics.com
SUMMARY:X-Class Aesthetic Elite Summit 2023
DESCRIPTION:Get ready for three unforgettable days @ the beautiful VEA Hotel in Newport Beach California. This summit is geared to engage and evoke curiosity\, learning and take you and your practice to the next level including live demo\, and workshops led by 20+ global aesthetic industry experts. \nRegister Here! \nElevate Your Practice @ The BENEV X Class Aesthetic Elite Summit \nAttention all aesthetic professionals! We invite you to join us for the most memorable event of the year.  Get ready for three unforgettable days @ the beautiful VEA Hotel in Newport Beach California. This summit is geared to engage and evoke curiosity\, learning and take you and your practice to the next level including live treatment demos\, in-depth workshops\, cutting-edge presentations led by 20+ global aesthetic industry experts and trailblazers on the latest advancements in regenerative medicine and unlocking the secrets of the “Regenerative Trifecta\, social nights and more. The BENEV X-Class Aesthetic Elite Summit provides the perfect platform to gain invaluable knowledge and techniques that will set your practice apart from the rest. Connect with like-minded professionals who share your passion for aesthetic excellence. Forge valuable connections\, exchange ideas\, and collaborate with some of the brightest minds in the industry in a place where community is valued over competition. \n  \nhttps://www.youtube.com/watch?v=L8W7crmVwSI
URL:https://archonaesthetics.com/event/x-class-aesthetic-elite-summit-2023/
LOCATION:Vea Hotel – Newport Beach\, 900 Newport Center Dr\, Newport Beach\, CA\, 92660\, United States
ATTACH;FMTTYPE=image/webp:https://archonaesthetics.com/wp-content/uploads/2023/10/X-Class-Aesthetic-Elite-Summit.webp
END:VEVENT
BEGIN:VEVENT
DTSTART;TZID=America/Phoenix:20231113T180000
DTEND;TZID=America/Phoenix:20231113T190000
DTSTAMP:20260425T115853
CREATED:20231107T200035Z
LAST-MODIFIED:20231107T210332Z
UID:5770-1699898400-1699902000@archonaesthetics.com
SUMMARY:PART 1 - CO2Lift: The Versatility of a Carboxytherapy Gel with Board-Certified Dermatologist\, Dr. Ava Shamban
DESCRIPTION:LIVE WEBINAR: PART 1\n\nNOVEMBER 13th @ 5 PM PST/ 6PM MST \nJoin Dr. Ava Shamban\, celebrity and renown dermatologist\, as she reviews the history\, science and multiple uses of CO2Lift®\, the only clinically proven carboxytherapy topical gel. \nCan’t join live? Register and you will automatically receive the recording after. \nRegister Here: https://us02web.zoom.us/webinar/register/1216993762772/WN_l8j66CoDRWGinscQmQehmw#/registration
URL:https://archonaesthetics.com/event/part-1-co2lift-the-versatility-of-a-carboxytherapy-gel-with-board-certified-dermatologist-dr-ava-shamban/
END:VEVENT
BEGIN:VEVENT
DTSTART;TZID=UTC:20231115T180000
DTEND;TZID=UTC:20231115T190000
DTSTAMP:20260425T115853
CREATED:20231107T201007Z
LAST-MODIFIED:20231107T210302Z
UID:5779-1700071200-1700074800@archonaesthetics.com
SUMMARY:The Secret Behind Touchless\, Robotic Body Contouring with Board-Certified Plastic Surgeon Dr. Gregory Buford
DESCRIPTION:Join us for The Secret Behind Touchless\, Robotic Body Contouring webinar\, hosted by Gregory Buford\, MD\, FACS\, PCEO!\n\n\nDiscover how EON’s robotic technology gives superior fat reduction results without touching the patient!\n\n\n\nWednesday\, November 15th\n\n 5:00pm PST/6PM MST\n\nGregory Buford MD\, FACS\, PCEO \n\nA nationally recognized expert and trainer in the safe and effective use of injectables\, Dr. Buford is renowned for his expertise in breast enhancements\, including Denver breast augmentation and breast lift\, abdominoplasty (Tummy Tuck)\, liposuction\, and facials\, along with his revolutionary Before Baby Body program for moms looking to regain their pre-pregnancy bodies and confidence. Dr. Buford has a proven reputation and the qualifications to match. As an experienced authority in the area of primary as well as secondary breast revision surgery\, Dr. Buford has performed more than 6000 breast procedures over his career and has worked with patients from all over the world. \nRegister Here: https://zoom.us/webinar/register/WN_PeKwtGpvRtKLDiD6bs-lHg#/registration
URL:https://archonaesthetics.com/event/the-secret-behind-touchless-robotic-body-contouring-with-board-certified-plastic-surgeon-dr-gregory-buford/
END:VEVENT
BEGIN:VEVENT
DTSTART;TZID=UTC:20231129T180000
DTEND;TZID=UTC:20231129T190000
DTSTAMP:20260425T115853
CREATED:20231107T200611Z
LAST-MODIFIED:20231107T210212Z
UID:5775-1701280800-1701284400@archonaesthetics.com
SUMMARY:PART 2 - CO2Lift: Carboxytherapy Gel for Plastic Surgery Applications presented by Board-Certified Plastic Surgeon\, Dr. Alfredo Hoyos
DESCRIPTION:LIVE WEBINAR: PART 2\nNOVEMBER 29th @ 5 PM PST/ 6PM MST  \nJoin world renown plastic surgeon\, Dr. Alfredo Hoyos\, specialist in high-def lipo and creator of Total Definer\, as he reviews preliminary cases of using CO2Lift® Carboxytherapy Topical Gel in surgical procedures. \nLearn how CO2Lift® may compare to hyperbaric oxygen therapy (HBOT)\, and potential uses for reducing risks of complications. \nRegister Here: https://us02web.zoom.us/webinar/register/4716993762394/WN_e6tntkh7Qau47gI66iQN1g#/registration
URL:https://archonaesthetics.com/event/part-2-co2lift-carboxytherapy-gel-for-plastic-surgery-applications-presented-by-board-certified-plastic-surgeon-dr-alfredo-hoyos/
END:VEVENT
END:VCALENDAR