BEGIN:VCALENDAR
VERSION:2.0
PRODID:-//Archon Aesthetics - ECPv6.15.2//NONSGML v1.0//EN
CALSCALE:GREGORIAN
METHOD:PUBLISH
X-WR-CALNAME:Archon Aesthetics
X-ORIGINAL-URL:https://archonaesthetics.com
X-WR-CALDESC:Events for Archon Aesthetics
REFRESH-INTERVAL;VALUE=DURATION:PT1H
X-Robots-Tag:noindex
X-PUBLISHED-TTL:PT1H
BEGIN:VTIMEZONE
TZID:UTC
BEGIN:STANDARD
TZOFFSETFROM:+0000
TZOFFSETTO:+0000
TZNAME:UTC
DTSTART:20230101T000000
END:STANDARD
END:VTIMEZONE
BEGIN:VEVENT
DTSTART;TZID=UTC:20231018T173000
DTEND;TZID=UTC:20231018T193000
DTSTAMP:20260423T233037
CREATED:20231011T201546Z
LAST-MODIFIED:20231012T155058Z
UID:5692-1697650200-1697657400@archonaesthetics.com
SUMMARY:EON Robotic Laser Body Contouring Launch Event
DESCRIPTION:Join us at the Clearskin Institute of Laser Aesthetics in Phoenix\, AZ\, for the exciting launch of EON Body Contouring October 18th! This in-person event is your chance to discover the latest advancements in body contouring technology with a clinical presentation\, live demos\, the business of body contouring\, and light food & drinks. \nWhether you are looking to add body contouring to your practice or looking to enhance the results of other body technologies in your office this is the event you won’t want to miss! \nRegister Here! \nEON is the World’s First and Only FDA-approved robotic\, touchless\, fully autonomous\, 1064nm laser body contouring technology backed by years of research by industry-leading scientists and doctors. \nEON leverages innovative touchless technology to advance the laser aesthetic industry. State-of-the-art robotic precision delivers laser energy and cooling simultaneously for a comfortable patient experience. \n\nHeats adipose tissue to 123 degrees Fahrenheit\, industry-leading temperature!\nNo messy gels\, suction\, or massaging is required post-treatment\nCompletely touchless means no rashes\, bruising\, or divots\n20%-25% permanent fat loss in a single session 6-12 weeks post-treatment\nEliminates technique dependency among different providers in the office\n\nFDA CLEARED FOR THIGH\, FLANKS\, FULL ABDOMEN\, & BACK
URL:https://archonaesthetics.com/event/eon-robotic-laser-body-contouring-launch-event/
LOCATION:Clearskin Institute of Laser Aesthetics\, 3636 North Central Avenue #STE 700\, Phoenix\, AZ\, 85012\, United States
ATTACH;FMTTYPE=image/jpeg:https://archonaesthetics.com/wp-content/uploads/2023/10/images_592677709_992369940473_1_original.jpg
END:VEVENT
END:VCALENDAR