BEGIN:VCALENDAR
VERSION:2.0
PRODID:-//Archon Aesthetics - ECPv6.15.2//NONSGML v1.0//EN
CALSCALE:GREGORIAN
METHOD:PUBLISH
X-WR-CALNAME:Archon Aesthetics
X-ORIGINAL-URL:https://archonaesthetics.com
X-WR-CALDESC:Events for Archon Aesthetics
REFRESH-INTERVAL;VALUE=DURATION:PT1H
X-Robots-Tag:noindex
X-PUBLISHED-TTL:PT1H
BEGIN:VTIMEZONE
TZID:UTC
BEGIN:STANDARD
TZOFFSETFROM:+0000
TZOFFSETTO:+0000
TZNAME:UTC
DTSTART:20230101T000000
END:STANDARD
END:VTIMEZONE
BEGIN:VTIMEZONE
TZID:America/Phoenix
BEGIN:STANDARD
TZOFFSETFROM:-0700
TZOFFSETTO:-0700
TZNAME:MST
DTSTART:20230101T000000
END:STANDARD
END:VTIMEZONE
BEGIN:VEVENT
DTSTART;TZID=UTC:20231025T160000
DTEND;TZID=UTC:20231025T170000
DTSTAMP:20260425T123426
CREATED:20231012T164328Z
LAST-MODIFIED:20231012T172139Z
UID:5740-1698249600-1698253200@archonaesthetics.com
SUMMARY:Debunking Myths of Vaginal Health Webinar Oct 25th
DESCRIPTION:Join us with an expert panel to discuss all things Vaginal Health and how you can be helping your patience tackle issues head on. Can’t join live? Register and you will automatically receive the recording after. \nRegister Here!\n  \n \n \nContact Jason@archonaesthetics.com or call 480-300-2993 to place an order!
URL:https://archonaesthetics.com/event/debunking-myths-of-vaginal-health-webinar-oct-25th/
ATTACH;FMTTYPE=image/png:https://archonaesthetics.com/wp-content/uploads/2023/10/OctWebinarBanner2.png
END:VEVENT
BEGIN:VEVENT
DTSTART;TZID=America/Phoenix:20231023T170000
DTEND;TZID=America/Phoenix:20231023T173000
DTSTAMP:20260425T123426
CREATED:20231011T202410Z
LAST-MODIFIED:20231012T155446Z
UID:5706-1698080400-1698082200@archonaesthetics.com
SUMMARY:MIRACU PDO Threads Live Webinar with Dr. Jason Emer
DESCRIPTION:Get an exclusive chance to learn from aesthetic innovator Dr. Jason Emer with Miracu® PDO Threads! Dr. Jason Emer will divulge his PDO thread secrets when it comes to treating the mid-face\, lower -face and neck for a complete Miracu® Makeover! \nLearn from thread expert and aesthetic innovator Dr. Jason Emer on his Miracu® PDO Thread techniques. From exclusive combination therapies with our Meshfill and strategic thread placement for optimal effects\, get the chance to listen to world-requested Dr. Jason Emer and learn his tips and tricks for his Miracu® Makeovers. \nRegister Here! \n  \nhttps://www.youtube.com/watch?v=Gec8A6L0N78&list=PLbnaMpitVNbEg2a_YsttXoYeuih0qrJDc&index=3
URL:https://archonaesthetics.com/event/miracu-pdo-threads-live-webinar-with-dr-jason-emer/
ATTACH;FMTTYPE=image/webp:https://archonaesthetics.com/wp-content/uploads/2023/10/MIRACU-PDO-Threads-Live-Webinar-with-Dr.-Jason-Emer.webp
END:VEVENT
BEGIN:VEVENT
DTSTART;TZID=UTC:20231018T173000
DTEND;TZID=UTC:20231018T193000
DTSTAMP:20260425T123426
CREATED:20231011T201546Z
LAST-MODIFIED:20231012T155058Z
UID:5692-1697650200-1697657400@archonaesthetics.com
SUMMARY:EON Robotic Laser Body Contouring Launch Event
DESCRIPTION:Join us at the Clearskin Institute of Laser Aesthetics in Phoenix\, AZ\, for the exciting launch of EON Body Contouring October 18th! This in-person event is your chance to discover the latest advancements in body contouring technology with a clinical presentation\, live demos\, the business of body contouring\, and light food & drinks. \nWhether you are looking to add body contouring to your practice or looking to enhance the results of other body technologies in your office this is the event you won’t want to miss! \nRegister Here! \nEON is the World’s First and Only FDA-approved robotic\, touchless\, fully autonomous\, 1064nm laser body contouring technology backed by years of research by industry-leading scientists and doctors. \nEON leverages innovative touchless technology to advance the laser aesthetic industry. State-of-the-art robotic precision delivers laser energy and cooling simultaneously for a comfortable patient experience. \n\nHeats adipose tissue to 123 degrees Fahrenheit\, industry-leading temperature!\nNo messy gels\, suction\, or massaging is required post-treatment\nCompletely touchless means no rashes\, bruising\, or divots\n20%-25% permanent fat loss in a single session 6-12 weeks post-treatment\nEliminates technique dependency among different providers in the office\n\nFDA CLEARED FOR THIGH\, FLANKS\, FULL ABDOMEN\, & BACK
URL:https://archonaesthetics.com/event/eon-robotic-laser-body-contouring-launch-event/
LOCATION:Clearskin Institute of Laser Aesthetics\, 3636 North Central Avenue #STE 700\, Phoenix\, AZ\, 85012\, United States
ATTACH;FMTTYPE=image/jpeg:https://archonaesthetics.com/wp-content/uploads/2023/10/images_592677709_992369940473_1_original.jpg
END:VEVENT
END:VCALENDAR