BEGIN:VCALENDAR
VERSION:2.0
PRODID:-//Archon Aesthetics - ECPv6.15.2//NONSGML v1.0//EN
CALSCALE:GREGORIAN
METHOD:PUBLISH
X-ORIGINAL-URL:https://archonaesthetics.com
X-WR-CALDESC:Events for Archon Aesthetics
REFRESH-INTERVAL;VALUE=DURATION:PT1H
X-Robots-Tag:noindex
X-PUBLISHED-TTL:PT1H
BEGIN:VTIMEZONE
TZID:UTC
BEGIN:STANDARD
TZOFFSETFROM:+0000
TZOFFSETTO:+0000
TZNAME:UTC
DTSTART:20250101T000000
END:STANDARD
END:VTIMEZONE
BEGIN:VEVENT
DTSTART;TZID=UTC:20250402T080000
DTEND;TZID=UTC:20250402T090000
DTSTAMP:20260425T154419
CREATED:20250327T143509Z
LAST-MODIFIED:20250327T144314Z
UID:6856-1743580800-1743584400@archonaesthetics.com
SUMMARY:Exosome Treatments – Key Differences Between Lyophilized and Bioactive Exosomes in Saline
DESCRIPTION:Exosome Treatments – Key Differences Between Lyophilized and Bioactive Exosomes in Saline \nwith Dr. Michael Heke\, PhD in Stem Cell Biology \nTime: Apr 2\, 2025 08:00 AM PST\n\nJoin the zoom call here: https://us06web.zoom.us/j/86355681693?pwd=kAMyKLXAXilnifXyYjZ3TM9heB1fob.1
URL:https://archonaesthetics.com/event/exosome-treatments-key-differences-between-lyophilized-and-bioactive-exosomes-in-saline/
ATTACH;FMTTYPE=image/png:https://archonaesthetics.com/wp-content/uploads/2025/03/8am-PST-1-1.png
END:VEVENT
END:VCALENDAR