BEGIN:VCALENDAR
VERSION:2.0
PRODID:-//Archon Aesthetics - ECPv6.15.2//NONSGML v1.0//EN
CALSCALE:GREGORIAN
METHOD:PUBLISH
X-WR-CALNAME:Archon Aesthetics
X-ORIGINAL-URL:https://archonaesthetics.com
X-WR-CALDESC:Events for Archon Aesthetics
REFRESH-INTERVAL;VALUE=DURATION:PT1H
X-Robots-Tag:noindex
X-PUBLISHED-TTL:PT1H
BEGIN:VTIMEZONE
TZID:UTC
BEGIN:STANDARD
TZOFFSETFROM:+0000
TZOFFSETTO:+0000
TZNAME:UTC
DTSTART:20250101T000000
END:STANDARD
END:VTIMEZONE
BEGIN:VEVENT
DTSTART;TZID=UTC:20250227T180000
DTEND;TZID=UTC:20250227T190000
DTSTAMP:20260425T125325
CREATED:20250218T192802Z
LAST-MODIFIED:20250218T192816Z
UID:6825-1740679200-1740682800@archonaesthetics.com
SUMMARY:Advancing Fractional Picosecond Technology with handPICO
DESCRIPTION:Join us on February 27th at 6 PM MST (8 PM ET) for an exclusive webinar featuring renowned dermatologists Dr. Joel Cohen\, Dr. Valeria Campos\, and Dr. Gardenia Palomino! These leading experts will share their clinical perspectives on the revolutionary handPICO® laser and the newly FDA-cleared Micro Lens Array (MLA) tip that’s transforming aesthetic treatments. Learn how this versatile platform delivers exceptional results across multiple indications – from advanced tattoo removal and pigmentation treatment to amazing skin rejuvenation for all skin types. \nDon’t miss this opportunity to discover how handPICO® can enhance your practice with zero consumables and no-downtime treatments. Whether you’re looking to expand your treatment menu or add to your current offerings\, this webinar will provide valuable insights into the future of aesthetic medicine. \nClick the link in our bio to register now – attendees will also be able to take advantage of exclusive pricing offers!✨ \nRegister here: \nhttps://zoom.us/webinar/register/WN_5J_NVG7rRzeTxL0OEE2JJw#/registration
URL:https://archonaesthetics.com/event/advancing-fractional-picosecond-technology-with-handpico-clinical-perspectives-from-dr-joel-cohen-dr-valeria-campos-and-dr-gardenia-palomino/
ATTACH;FMTTYPE=image/png:https://archonaesthetics.com/wp-content/uploads/2025/02/Screenshot-2025-02-18-at-12.21.58 PM.png
END:VEVENT
END:VCALENDAR