BEGIN:VCALENDAR
VERSION:2.0
PRODID:-//Archon Aesthetics - ECPv6.15.2//NONSGML v1.0//EN
CALSCALE:GREGORIAN
METHOD:PUBLISH
X-WR-CALNAME:Archon Aesthetics
X-ORIGINAL-URL:https://archonaesthetics.com
X-WR-CALDESC:Events for Archon Aesthetics
REFRESH-INTERVAL;VALUE=DURATION:PT1H
X-Robots-Tag:noindex
X-PUBLISHED-TTL:PT1H
BEGIN:VTIMEZONE
TZID:America/Phoenix
BEGIN:STANDARD
TZOFFSETFROM:-0700
TZOFFSETTO:-0700
TZNAME:MST
DTSTART:20250101T000000
END:STANDARD
END:VTIMEZONE
BEGIN:VEVENT
DTSTART;TZID=America/Phoenix:20250129T170000
DTEND;TZID=America/Phoenix:20250129T180000
DTSTAMP:20260423T114930
CREATED:20250117T233605Z
LAST-MODIFIED:20250117T233717Z
UID:6772-1738170000-1738173600@archonaesthetics.com
SUMMARY:Mastering Laser Hair Removal: Profit & Patient Outcomes
DESCRIPTION:Discover how to implement laser hair removal into your practice / spa successfully! \n\n\nSpeaker: Roni Bolton APRN\, DCNP \n  \nWhat you’ll learn: \n\n\n\n\nProven strategies to boost revenue \n\n\n\n\nSecrets to patient retention and satisfaction \n\n\n\n\nChoosing the right technology and training. \n\n\n\n\nBusiness Operations \n\n\n\n  \nRegister here: https://event.webinarjam.com/register/2/xpw5xal
URL:https://archonaesthetics.com/event/mastering-laser-hair-removal-profit-patient-outcomes/
ATTACH;FMTTYPE=image/jpeg:https://archonaesthetics.com/wp-content/uploads/2025/01/IMG_1014.jpg
END:VEVENT
END:VCALENDAR