BEGIN:VCALENDAR
VERSION:2.0
PRODID:-//Archon Aesthetics - ECPv6.15.2//NONSGML v1.0//EN
CALSCALE:GREGORIAN
METHOD:PUBLISH
X-WR-CALNAME:Archon Aesthetics
X-ORIGINAL-URL:https://archonaesthetics.com
X-WR-CALDESC:Events for Archon Aesthetics
REFRESH-INTERVAL;VALUE=DURATION:PT1H
X-Robots-Tag:noindex
X-PUBLISHED-TTL:PT1H
BEGIN:VTIMEZONE
TZID:UTC
BEGIN:STANDARD
TZOFFSETFROM:+0000
TZOFFSETTO:+0000
TZNAME:UTC
DTSTART:20240101T000000
END:STANDARD
END:VTIMEZONE
BEGIN:VEVENT
DTSTART;TZID=UTC:20240918T160000
DTEND;TZID=UTC:20240918T170000
DTSTAMP:20260424T094833
CREATED:20240829T161353Z
LAST-MODIFIED:20240829T161518Z
UID:6633-1726675200-1726678800@archonaesthetics.com
SUMMARY:Innovative Laser Techniques for Enhanced Patient Outcomes with Dr. Tess Mauricio
DESCRIPTION:Mark your calendar for September 18th at 4 PM PST / 7 PM EST for an enlightening session with renowned dermatologist Dr. Tess Mauricio\, who will be discussing the transformative potential of combination treatments using the VYDENCE laser platform. \nDuring this webinar\, Dr. Mauricio will share her extensive experience and strategies for maximizing patient outcomes\, including clinical best practices and techniques with VYDENCE lasers. There will also be an interactive Q&A session\, allowing you to get your questions answered in real-time and gain practical insights tailored to your practice needs. \nDon’t miss this opportunity to enhance your expertise and expand your treatment offerings. Secure your spot today and take the first step towards revolutionizing your aesthetic practice! \nRegister here: \nhttps://zoom.us/webinar/register/WN_mB0fhrN9TayhP2YIEx7V-g?amp_device_id=a47585d4-5a56-47b5-b7db-df85f391c38f&utm_campaign=newsletter_usa__ntl-__agosto_-_04&utm_medium=email&utm_source=RD+Station#/registration
URL:https://archonaesthetics.com/event/innovative-laser-techniques-for-enhanced-patient-outcomes-with-dr-tess-mauricio/
ATTACH;FMTTYPE=image/png:https://archonaesthetics.com/wp-content/uploads/2024/08/webinar-tess.png
END:VEVENT
END:VCALENDAR