BEGIN:VCALENDAR
VERSION:2.0
PRODID:-//Archon Aesthetics - ECPv6.15.2//NONSGML v1.0//EN
CALSCALE:GREGORIAN
METHOD:PUBLISH
X-WR-CALNAME:Archon Aesthetics
X-ORIGINAL-URL:https://archonaesthetics.com
X-WR-CALDESC:Events for Archon Aesthetics
REFRESH-INTERVAL;VALUE=DURATION:PT1H
X-Robots-Tag:noindex
X-PUBLISHED-TTL:PT1H
BEGIN:VTIMEZONE
TZID:UTC
BEGIN:STANDARD
TZOFFSETFROM:+0000
TZOFFSETTO:+0000
TZNAME:UTC
DTSTART:20240101T000000
END:STANDARD
END:VTIMEZONE
BEGIN:VEVENT
DTSTART;TZID=UTC:20240613T160000
DTEND;TZID=UTC:20240613T170000
DTSTAMP:20260424T111734
CREATED:20240605T173408Z
LAST-MODIFIED:20240605T173408Z
UID:6559-1718294400-1718298000@archonaesthetics.com
SUMMARY:The Utilization of CO2Lift Pro for Plastic Surgery Complications Webinar
DESCRIPTION:LIVE WEBINAR \nJune 13th | 4:00PM – 8:00 PM PST \nMore common than not\, liposuction can present minor complications. Having the right tools when this happens can set a physician apart from others. \n\nJoin Dr. Dimara Vega as she reviews some of her more challenging cases and her steps for successful patient outcomes. \n\nCLICK HERE TO REGISTER \nhttps://us02web.zoom.us/webinar/register/5917176023868/WN_RwMfeqLmQGOhGyNtRKwVzQ \n\nIf you are unable to watch live\, register anyway to receive the recording after the event to watch at your convenience.
URL:https://archonaesthetics.com/event/the-utilization-of-co2lift-pro-for-plastic-surgery-complications-webinar/
ATTACH;FMTTYPE=image/png:https://archonaesthetics.com/wp-content/uploads/2024/06/image001.png
END:VEVENT
BEGIN:VEVENT
DTSTART;TZID=UTC:20240613T173000
DTEND;TZID=UTC:20240613T190000
DTSTAMP:20260424T111734
CREATED:20240520T173852Z
LAST-MODIFIED:20240520T173852Z
UID:6511-1718299800-1718305200@archonaesthetics.com
SUMMARY:EON Robotic Body Contouring Event June 13th 2024
DESCRIPTION:If you are interested in adding body contouring to your menu of services this summer\, this is an event you won’t want to miss. Join us on June 13th at 5:30pm at Med-Surg Aesthetics and Laser Academy in Scottsdale to learn about the latest technology innovation in touch-free\, robotic\, AI assisted\, laser fat reduction. We will have a special event only promotion sponsored by EON as well as a few 5 minute demo treatment spots to experience the technology for yourself! \nFor more information visit: https://archonaesthetics.com/devices/eon-robotic-laser-body-contouring/ \nSeating will be limited\, reserve your spot today! \n\n\n\n\nhttps://www.eventbrite.com/e/eon-robotic-body-contouring-event-june-13-tickets-909949301857?aff=oddtdtcreator
URL:https://archonaesthetics.com/event/eon-robotic-body-contouring-event-june-13th-2024/
LOCATION:Med-Surg Aesthetics and Laser Academy\, 8575 E Princess Dr Suite A221\, Scottsdale\, 85255\, United States
ATTACH;FMTTYPE=image/jpeg:https://archonaesthetics.com/wp-content/uploads/2024/05/13-1.jpg
END:VEVENT
END:VCALENDAR