BEGIN:VCALENDAR
VERSION:2.0
PRODID:-//Archon Aesthetics - ECPv6.15.2//NONSGML v1.0//EN
CALSCALE:GREGORIAN
METHOD:PUBLISH
X-WR-CALNAME:Archon Aesthetics
X-ORIGINAL-URL:https://archonaesthetics.com
X-WR-CALDESC:Events for Archon Aesthetics
REFRESH-INTERVAL;VALUE=DURATION:PT1H
X-Robots-Tag:noindex
X-PUBLISHED-TTL:PT1H
BEGIN:VTIMEZONE
TZID:UTC
BEGIN:STANDARD
TZOFFSETFROM:+0000
TZOFFSETTO:+0000
TZNAME:UTC
DTSTART:20240101T000000
END:STANDARD
END:VTIMEZONE
BEGIN:VEVENT
DTSTART;TZID=UTC:20240604T170000
DTEND;TZID=UTC:20240604T180000
DTSTAMP:20260424T142120
CREATED:20240530T202944Z
LAST-MODIFIED:20240530T205435Z
UID:6522-1717520400-1717524000@archonaesthetics.com
SUMMARY:Global Trends & Approaches To Treat Melasma With Laser Webinar June 4th @ 5pm
DESCRIPTION:International experts will share their clinical cases in patients with melasma\, how was the treatment and results. \n\nJune 4th\, 2024  05:00 PM PST\n\n\nClick here to register:  https://zoom.us/webinar/register/WN_HSQ7t9gPQk6Kyut9NlMn7w#/registration
URL:https://archonaesthetics.com/event/global-trends-and-approaches-on-laser-to-treat-melasma-webinar-june-4th-5pm/
ATTACH;FMTTYPE=image/png:https://archonaesthetics.com/wp-content/uploads/2024/05/Screenshot-2024-05-30-at-1.51.25 PM.png
END:VEVENT
END:VCALENDAR