BEGIN:VCALENDAR
VERSION:2.0
PRODID:-//Archon Aesthetics - ECPv6.15.2//NONSGML v1.0//EN
CALSCALE:GREGORIAN
METHOD:PUBLISH
X-WR-CALNAME:Archon Aesthetics
X-ORIGINAL-URL:https://archonaesthetics.com
X-WR-CALDESC:Events for Archon Aesthetics
REFRESH-INTERVAL;VALUE=DURATION:PT1H
X-Robots-Tag:noindex
X-PUBLISHED-TTL:PT1H
BEGIN:VTIMEZONE
TZID:UTC
BEGIN:STANDARD
TZOFFSETFROM:+0000
TZOFFSETTO:+0000
TZNAME:UTC
DTSTART:20240101T000000
END:STANDARD
END:VTIMEZONE
BEGIN:VEVENT
DTSTART;TZID=UTC:20240419T093000
DTEND;TZID=UTC:20240419T173000
DTSTAMP:20260424T203003
CREATED:20240412T154734Z
LAST-MODIFIED:20240412T154958Z
UID:6360-1713519000-1713547800@archonaesthetics.com
SUMMARY:Medspa Business Accelerator\, by Aesthetic Practice Partners
DESCRIPTION:We hope you consider joining us at this fantastic educational event in AZ on April 19th! \nAs a valued account of ours\, we can offer you 50% off with code CO250. \nFYI – every attendee will receive a free CO2Lift treatment! \nClick here to register: https://www.eventbrite.com/e/medspa-business-accelerator-by-aesthetic-practice-partners-tickets-860263560467?aff=ebdsoporgprofile
URL:https://archonaesthetics.com/event/medspa-business-accelerator-by-aesthetic-practice-partners/
LOCATION:Hotel Adeline\, 5101 North Scottsdale Road\, Scottsdale\, AZ\, 85250\, United States
ATTACH;FMTTYPE=image/png:https://archonaesthetics.com/wp-content/uploads/2024/04/Unknown.png
END:VEVENT
END:VCALENDAR