BEGIN:VCALENDAR
VERSION:2.0
PRODID:-//Archon Aesthetics - ECPv6.15.2//NONSGML v1.0//EN
CALSCALE:GREGORIAN
METHOD:PUBLISH
X-WR-CALNAME:Archon Aesthetics
X-ORIGINAL-URL:https://archonaesthetics.com
X-WR-CALDESC:Events for Archon Aesthetics
REFRESH-INTERVAL;VALUE=DURATION:PT1H
X-Robots-Tag:noindex
X-PUBLISHED-TTL:PT1H
BEGIN:VTIMEZONE
TZID:UTC
BEGIN:STANDARD
TZOFFSETFROM:+0000
TZOFFSETTO:+0000
TZNAME:UTC
DTSTART:20240101T000000
END:STANDARD
END:VTIMEZONE
BEGIN:VEVENT
DTSTART;TZID=UTC:20240411T080000
DTEND;TZID=UTC:20240414T170000
DTSTAMP:20260425T005047
CREATED:20240222T140741Z
LAST-MODIFIED:20240222T140741Z
UID:5923-1712822400-1713114000@archonaesthetics.com
SUMMARY:[AMSPA] The Medical Spa Show 2024
DESCRIPTION:[AMSPA] The Medical Spa Show 2024\nTime & Location\n\n\nApr 11\, 2024\, 9:00 AM PDT – Apr 14\, 2024\, 4:00 PM PDT \nWynn Las Vegas\, 3131 Las Vegas Blvd S\, Las Vegas\, NV 89109\, USA \nhttps://www.medicalspashow.com/register
URL:https://archonaesthetics.com/event/amspa-the-medical-spa-show-2024/
ATTACH;FMTTYPE=image/webp:https://archonaesthetics.com/wp-content/uploads/2024/02/60eb10_491579eeb04c4ccb81bb3a29a7b4e502mv2.webp
END:VEVENT
END:VCALENDAR