BEGIN:VCALENDAR
VERSION:2.0
PRODID:-//Archon Aesthetics - ECPv6.15.2//NONSGML v1.0//EN
CALSCALE:GREGORIAN
METHOD:PUBLISH
X-WR-CALNAME:Archon Aesthetics
X-ORIGINAL-URL:https://archonaesthetics.com
X-WR-CALDESC:Events for Archon Aesthetics
REFRESH-INTERVAL;VALUE=DURATION:PT1H
X-Robots-Tag:noindex
X-PUBLISHED-TTL:PT1H
BEGIN:VTIMEZONE
TZID:UTC
BEGIN:STANDARD
TZOFFSETFROM:+0000
TZOFFSETTO:+0000
TZNAME:UTC
DTSTART:20240101T000000
END:STANDARD
END:VTIMEZONE
BEGIN:VEVENT
DTSTART;TZID=UTC:20240403T090000
DTEND;TZID=UTC:20240403T130000
DTSTAMP:20260424T185805
CREATED:20240229T010459Z
LAST-MODIFIED:20240229T010459Z
UID:5928-1712134800-1712149200@archonaesthetics.com
SUMMARY:Miracu Bootcamp Training 4-3-24
DESCRIPTION:Miracu PDO Threads Bootcamp Training April 3\, 2024 \n9am-1pm \nCost: $2\,500 \nBootcamp Training Includes: \n\nTwo trainings for the price of one\n$1250 thread credit for your next order\nAll threads and supplies provided\nLunch\nTraining certificate\nYou bring your own model\n\nIf you already have a Benev online account\, login to shop.benev.com and choose the opening order package under the Miracu heading. \nIf you do not have a Benev online account contact me at Jason@archonaesthetics.com or 480-300-2993 to get setup.
URL:https://archonaesthetics.com/event/miracu-bootcamp-training-4-3-24/
ATTACH;FMTTYPE=image/png:https://archonaesthetics.com/wp-content/uploads/2024/02/Miracu-Training-Pricing.png
END:VEVENT
END:VCALENDAR