BEGIN:VCALENDAR
VERSION:2.0
PRODID:-//Archon Aesthetics - ECPv6.15.2//NONSGML v1.0//EN
CALSCALE:GREGORIAN
METHOD:PUBLISH
X-ORIGINAL-URL:https://archonaesthetics.com
X-WR-CALDESC:Events for Archon Aesthetics
REFRESH-INTERVAL;VALUE=DURATION:PT1H
X-Robots-Tag:noindex
X-PUBLISHED-TTL:PT1H
BEGIN:VTIMEZONE
TZID:America/Phoenix
BEGIN:STANDARD
TZOFFSETFROM:-0700
TZOFFSETTO:-0700
TZNAME:MST
DTSTART:20240101T000000
END:STANDARD
END:VTIMEZONE
BEGIN:VEVENT
DTSTART;TZID=America/Phoenix:20240313T180000
DTEND;TZID=America/Phoenix:20240313T193000
DTSTAMP:20260424T220755
CREATED:20240229T194509Z
LAST-MODIFIED:20240229T204743Z
UID:5934-1710352800-1710358200@archonaesthetics.com
SUMMARY:Optimizing Your RealSelf Profile: Discover the Exclusive Tools You Need for 2024 Webinar
DESCRIPTION:Optimizing Your RealSelf Profile: Discover the Exclusive Tools You Need for 2024\n\nJoin Realself Vice President of Sales\, Kirsten Mann\, for an exclusive\, all-access webinar where she answers all of your questions about Realself and how it can transform finding new patients! *By RSVP\, you authorize BENEV to create a free Realself page on your behalf. \n\nTime & Location\n\n\nLive Webinar Mar 13\, 2024\, 6:00 PM – 7:30 PM MST \n\n\nAbout the Event\n\n\n\nWe have become a strategic partner with Realself to provide you\, our customers\, the best resources for practice success! Register today so you can learn how to use your Realself profile and get new\, interested patients booking up your BENEV treatments! \nRegister Here: https://www.benev.com/event-details/optimizing-your-realself-profile/form \n*By RSVP\, you authorize BENEV to create a free Realself page on your behalf.
URL:https://archonaesthetics.com/event/optimizing-your-realself-profile-discover-the-exclusive-tools-you-need-for-2024/
ATTACH;FMTTYPE=image/webp:https://archonaesthetics.com/wp-content/uploads/2024/02/60eb10_616293ca97f84c2ea04f600083eaf277mv2.webp
END:VEVENT
END:VCALENDAR