BEGIN:VCALENDAR
VERSION:2.0
PRODID:-//Archon Aesthetics - ECPv6.15.2//NONSGML v1.0//EN
CALSCALE:GREGORIAN
METHOD:PUBLISH
X-ORIGINAL-URL:https://archonaesthetics.com
X-WR-CALDESC:Events for Archon Aesthetics
REFRESH-INTERVAL;VALUE=DURATION:PT1H
X-Robots-Tag:noindex
X-PUBLISHED-TTL:PT1H
BEGIN:VTIMEZONE
TZID:UTC
BEGIN:STANDARD
TZOFFSETFROM:+0000
TZOFFSETTO:+0000
TZNAME:UTC
DTSTART:20240101T000000
END:STANDARD
END:VTIMEZONE
BEGIN:VEVENT
DTSTART;TZID=UTC:20240308T100000
DTEND;TZID=UTC:20240312T150000
DTSTAMP:20260424T203144
CREATED:20240222T140102Z
LAST-MODIFIED:20240222T140317Z
UID:5917-1709892000-1710255600@archonaesthetics.com
SUMMARY:American Academy of Dermatology Association 2024 (AAD)
DESCRIPTION: American Academy of Dermatology Association 2024 (AAD)\nBenev Booth #1211\n\nTime & Location\n\n\nMar 08\, 2024\, 10:00 AM PST – Mar 12\, 2024\, 3:00 PM PDT \nSan Diego Convention Center\, 111 Harbor Dr\, San Diego\, CA 92101\, USA \n\n\nhttps://www.aad.org/member/meetings-education/am24/registration
URL:https://archonaesthetics.com/event/american-academy-of-dermatology-association-2024-aad/
LOCATION:San Diego Convention Center\, 111 Harbor Dr.\, San Diego\, CA\, 92101\, United States
ATTACH;FMTTYPE=image/webp:https://archonaesthetics.com/wp-content/uploads/2024/02/60eb10_c6c4f9faf3f14be3897020d172dfe70amv2.webp
END:VEVENT
END:VCALENDAR