BEGIN:VCALENDAR
VERSION:2.0
PRODID:-//Archon Aesthetics - ECPv6.15.2//NONSGML v1.0//EN
CALSCALE:GREGORIAN
METHOD:PUBLISH
X-ORIGINAL-URL:https://archonaesthetics.com
X-WR-CALDESC:Events for Archon Aesthetics
REFRESH-INTERVAL;VALUE=DURATION:PT1H
X-Robots-Tag:noindex
X-PUBLISHED-TTL:PT1H
BEGIN:VTIMEZONE
TZID:America/Phoenix
BEGIN:STANDARD
TZOFFSETFROM:-0700
TZOFFSETTO:-0700
TZNAME:MST
DTSTART:20230101T000000
END:STANDARD
END:VTIMEZONE
BEGIN:VEVENT
DTSTART;TZID=America/Phoenix:20231214T103000
DTEND;TZID=America/Phoenix:20231216T143000
DTSTAMP:20260425T120111
CREATED:20231011T203217Z
LAST-MODIFIED:20231012T170936Z
UID:5718-1702549800-1702737000@archonaesthetics.com
SUMMARY:American Academy of Anti-Aging Medicine [Booth #2032] [A4M Las Vegas]
DESCRIPTION:LongevityFest December 14th-16th 2023: Leveling Up Healthcare takes on the challenge\, presenting healthcare professionals with the latest healthy longevity innovations and their applications in clinical practice. Harnessing the power of science\, medicine\, and technology advancements\, we propose a new vision for healthcare and help practitioners unlock its full potential. \nThe record-breaking\, industry-disrupting medical education event is the ultimate gathering of clinicians\, researchers\, and innovators\, all dedicated to exploring the cutting-edge of longevity and healthcare. \nA panel of industry visionaries and boundary-breakers will deliver a three-day agenda of immersive lectures\, hands-on workshops\, and groundbreaking presentations. The electrifying and enriching experience of LongevityFest 2023 takes longevity to the next level\, transcending the limits of conventional care and setting a new standard for promoting healthy and fulfilling lives. \nRegister Here!
URL:https://archonaesthetics.com/event/american-academy-of-anti-aging-medicine-booth-2032-a4m/
ATTACH;FMTTYPE=image/jpeg:https://archonaesthetics.com/wp-content/uploads/2023/10/60eb10_75736ff8a0d34effbe2b9fb252a82918mv2.jpg
END:VEVENT
END:VCALENDAR