BEGIN:VCALENDAR
VERSION:2.0
PRODID:-//Archon Aesthetics - ECPv6.15.2//NONSGML v1.0//EN
CALSCALE:GREGORIAN
METHOD:PUBLISH
X-WR-CALNAME:Archon Aesthetics
X-ORIGINAL-URL:https://archonaesthetics.com
X-WR-CALDESC:Events for Archon Aesthetics
REFRESH-INTERVAL;VALUE=DURATION:PT1H
X-Robots-Tag:noindex
X-PUBLISHED-TTL:PT1H
BEGIN:VTIMEZONE
TZID:America/Los_Angeles
BEGIN:DAYLIGHT
TZOFFSETFROM:-0800
TZOFFSETTO:-0700
TZNAME:PDT
DTSTART:20230312T100000
END:DAYLIGHT
BEGIN:STANDARD
TZOFFSETFROM:-0700
TZOFFSETTO:-0800
TZNAME:PST
DTSTART:20231105T090000
END:STANDARD
END:VTIMEZONE
BEGIN:VEVENT
DTSTART;TZID=America/Los_Angeles:20231110T180000
DTEND;TZID=America/Los_Angeles:20231112T150000
DTSTAMP:20260425T103025
CREATED:20231011T203000Z
LAST-MODIFIED:20231012T155351Z
UID:5714-1699639200-1699801200@archonaesthetics.com
SUMMARY:X-Class Aesthetic Elite Summit 2023
DESCRIPTION:Get ready for three unforgettable days @ the beautiful VEA Hotel in Newport Beach California. This summit is geared to engage and evoke curiosity\, learning and take you and your practice to the next level including live demo\, and workshops led by 20+ global aesthetic industry experts. \nRegister Here! \nElevate Your Practice @ The BENEV X Class Aesthetic Elite Summit \nAttention all aesthetic professionals! We invite you to join us for the most memorable event of the year.  Get ready for three unforgettable days @ the beautiful VEA Hotel in Newport Beach California. This summit is geared to engage and evoke curiosity\, learning and take you and your practice to the next level including live treatment demos\, in-depth workshops\, cutting-edge presentations led by 20+ global aesthetic industry experts and trailblazers on the latest advancements in regenerative medicine and unlocking the secrets of the “Regenerative Trifecta\, social nights and more. The BENEV X-Class Aesthetic Elite Summit provides the perfect platform to gain invaluable knowledge and techniques that will set your practice apart from the rest. Connect with like-minded professionals who share your passion for aesthetic excellence. Forge valuable connections\, exchange ideas\, and collaborate with some of the brightest minds in the industry in a place where community is valued over competition. \n  \nhttps://www.youtube.com/watch?v=L8W7crmVwSI
URL:https://archonaesthetics.com/event/x-class-aesthetic-elite-summit-2023/
LOCATION:Vea Hotel – Newport Beach\, 900 Newport Center Dr\, Newport Beach\, CA\, 92660\, United States
ATTACH;FMTTYPE=image/webp:https://archonaesthetics.com/wp-content/uploads/2023/10/X-Class-Aesthetic-Elite-Summit.webp
END:VEVENT
END:VCALENDAR